BEGIN:VCALENDAR
VERSION:2.0
PRODID:-//Illuminating Discovery Hub - ECPv6.2.2//NONSGML v1.0//EN
CALSCALE:GREGORIAN
METHOD:PUBLISH
X-WR-CALNAME:Illuminating Discovery Hub
X-ORIGINAL-URL:https://illuminatingdiscovery.wisc.edu
X-WR-CALDESC:Events for Illuminating Discovery Hub
REFRESH-INTERVAL;VALUE=DURATION:PT1H
X-Robots-Tag:noindex
X-PUBLISHED-TTL:PT1H
BEGIN:VTIMEZONE
TZID:America/Chicago
BEGIN:DAYLIGHT
TZOFFSETFROM:-0600
TZOFFSETTO:-0500
TZNAME:CDT
DTSTART:20230312T080000
END:DAYLIGHT
BEGIN:STANDARD
TZOFFSETFROM:-0500
TZOFFSETTO:-0600
TZNAME:CST
DTSTART:20231105T070000
END:STANDARD
END:VTIMEZONE
BEGIN:VEVENT
DTSTART;TZID=America/Chicago:20231101T120000
DTEND;TZID=America/Chicago:20231101T130000
DTSTAMP:20260421T054215
CREATED:20230817T194610Z
LAST-MODIFIED:20230817T194714Z
UID:10001714-1698840000-1698843600@illuminatingdiscovery.wisc.edu
SUMMARY:Indigenous Language Table
DESCRIPTION:
URL:https://illuminatingdiscovery.wisc.edu/event/indigenous-language-table/2023-11-01/
LOCATION:Room 1145\, Discovery Building\, 333 N. Randall Avenue\, Madison\, WI\, 53715\, United States
CATEGORIES:Event,Indigenous Language Table
ATTACH;FMTTYPE=image/png:https://illuminatingdiscovery.wisc.edu/wp-content/uploads/2023/05/Language-Table-Logo.png
END:VEVENT
BEGIN:VEVENT
DTSTART;TZID=America/Chicago:20231108T120000
DTEND;TZID=America/Chicago:20231108T130000
DTSTAMP:20260421T054215
CREATED:20230817T194610Z
LAST-MODIFIED:20230817T194714Z
UID:10001715-1699444800-1699448400@illuminatingdiscovery.wisc.edu
SUMMARY:Indigenous Language Table
DESCRIPTION:
URL:https://illuminatingdiscovery.wisc.edu/event/indigenous-language-table/2023-11-08/
LOCATION:Room 1145\, Discovery Building\, 333 N. Randall Avenue\, Madison\, WI\, 53715\, United States
CATEGORIES:Event,Indigenous Language Table
ATTACH;FMTTYPE=image/png:https://illuminatingdiscovery.wisc.edu/wp-content/uploads/2023/05/Language-Table-Logo.png
END:VEVENT
BEGIN:VEVENT
DTSTART;TZID=America/Chicago:20231115T120000
DTEND;TZID=America/Chicago:20231115T130000
DTSTAMP:20260421T054215
CREATED:20230817T194610Z
LAST-MODIFIED:20230817T194714Z
UID:10001716-1700049600-1700053200@illuminatingdiscovery.wisc.edu
SUMMARY:Indigenous Language Table
DESCRIPTION:
URL:https://illuminatingdiscovery.wisc.edu/event/indigenous-language-table/2023-11-15/
LOCATION:Room 1145\, Discovery Building\, 333 N. Randall Avenue\, Madison\, WI\, 53715\, United States
CATEGORIES:Event,Indigenous Language Table
ATTACH;FMTTYPE=image/png:https://illuminatingdiscovery.wisc.edu/wp-content/uploads/2023/05/Language-Table-Logo.png
END:VEVENT
BEGIN:VEVENT
DTSTART;TZID=America/Chicago:20231115T150000
DTEND;TZID=America/Chicago:20231115T163000
DTSTAMP:20260421T054215
CREATED:20231026T093330Z
LAST-MODIFIED:20231115T124422Z
UID:10001746-1700060400-1700065800@illuminatingdiscovery.wisc.edu
SUMMARY:2023 WID Symposium Public Expo
DESCRIPTION:Resilience\, Robustness\, & Adaptability in Complex Systems. This expo serves as an opportunity for our researchers at every stage in their career to showcase their ongoing work as it relates to WID’s theme\, focusing on resilience\, robustness\, and adaptability within complex systems.\nWith participation from our entire 200-member WID team\, this event offers an excellent platform to highlight our partnerships and give a peek inside the studies happening in the labs.\nA reception with light refreshments will follow the expo.\nCONTACT: lredeagle@wisc.edu\nURL: https://wid.wisc.edu/event/2023-wid-symposium-public-expo/
URL:https://illuminatingdiscovery.wisc.edu/event/2023-wid-symposium-public-expo/
LOCATION:Town Center\, Discovery Building
ATTACH;FMTTYPE=image/png:https://illuminatingdiscovery.wisc.edu/wp-content/uploads/2023/10/2023sympo169.png
END:VEVENT
BEGIN:VEVENT
DTSTART;TZID=America/Chicago:20231115T190000
DTEND;TZID=America/Chicago:20231115T200000
DTSTAMP:20260421T054215
CREATED:20230817T190808Z
LAST-MODIFIED:20231107T212653Z
UID:10001704-1700074800-1700078400@illuminatingdiscovery.wisc.edu
SUMMARY:Crossroads of Ideas: Future of Academia in a Complex World
DESCRIPTION:Speakers:\nCharles Lee Isbell\, Jr.\, Provost and Vice Chancellor for Academic Affairs and Hilldale Professor\nMichael C. Ferris\, John P. Morgridge Chair in Computer Sciences\,  Jacques-Louis Lions Professor of Computer Sciences\, and WID Hub Central Director \nJoin us for an interactive discussion with Charles Lee Isbell Jr.\, University of Wisconsin–Madison’s provost. Provost Isbell has a deep and distinguished background that blends institutional leadership in computer science\, research into machine learning and artificial intelligence\, and interdisciplinary collaboration. \nRegister today!
URL:https://illuminatingdiscovery.wisc.edu/event/crossroads-of-ideas11152023/
LOCATION:DeLuca Forum\, Discovery Building\, 330 N. Orchard Street\, Madison\, United States
CATEGORIES:Crossroads
ATTACH;FMTTYPE=image/png:https://illuminatingdiscovery.wisc.edu/wp-content/uploads/2023/08/23NovCrossroads2.png
END:VEVENT
BEGIN:VEVENT
DTSTART;TZID=America/Chicago:20231122T120000
DTEND;TZID=America/Chicago:20231122T130000
DTSTAMP:20260421T054215
CREATED:20230817T194610Z
LAST-MODIFIED:20230817T194714Z
UID:10001717-1700654400-1700658000@illuminatingdiscovery.wisc.edu
SUMMARY:Indigenous Language Table
DESCRIPTION:
URL:https://illuminatingdiscovery.wisc.edu/event/indigenous-language-table/2023-11-22/
LOCATION:Room 1145\, Discovery Building\, 333 N. Randall Avenue\, Madison\, WI\, 53715\, United States
CATEGORIES:Event,Indigenous Language Table
ATTACH;FMTTYPE=image/png:https://illuminatingdiscovery.wisc.edu/wp-content/uploads/2023/05/Language-Table-Logo.png
END:VEVENT
BEGIN:VEVENT
DTSTART;TZID=America/Chicago:20231129T120000
DTEND;TZID=America/Chicago:20231129T130000
DTSTAMP:20260421T054215
CREATED:20230817T194610Z
LAST-MODIFIED:20230817T194714Z
UID:10001718-1701259200-1701262800@illuminatingdiscovery.wisc.edu
SUMMARY:Indigenous Language Table
DESCRIPTION:
URL:https://illuminatingdiscovery.wisc.edu/event/indigenous-language-table/2023-11-29/
LOCATION:Room 1145\, Discovery Building\, 333 N. Randall Avenue\, Madison\, WI\, 53715\, United States
CATEGORIES:Event,Indigenous Language Table
ATTACH;FMTTYPE=image/png:https://illuminatingdiscovery.wisc.edu/wp-content/uploads/2023/05/Language-Table-Logo.png
END:VEVENT
END:VCALENDAR