BEGIN:VCALENDAR
VERSION:2.0
PRODID:-//Illuminating Discovery Hub - ECPv6.2.2//NONSGML v1.0//EN
CALSCALE:GREGORIAN
METHOD:PUBLISH
X-WR-CALNAME:Illuminating Discovery Hub
X-ORIGINAL-URL:https://illuminatingdiscovery.wisc.edu
X-WR-CALDESC:Events for Illuminating Discovery Hub
REFRESH-INTERVAL;VALUE=DURATION:PT1H
X-Robots-Tag:noindex
X-PUBLISHED-TTL:PT1H
BEGIN:VTIMEZONE
TZID:America/Chicago
BEGIN:DAYLIGHT
TZOFFSETFROM:-0600
TZOFFSETTO:-0500
TZNAME:CDT
DTSTART:20240310T080000
END:DAYLIGHT
BEGIN:STANDARD
TZOFFSETFROM:-0500
TZOFFSETTO:-0600
TZNAME:CST
DTSTART:20241103T070000
END:STANDARD
END:VTIMEZONE
BEGIN:VEVENT
DTSTART;TZID=America/Chicago:20241014T140000
DTEND;TZID=America/Chicago:20241014T150000
DTSTAMP:20260421T160927
CREATED:20240918T204300Z
LAST-MODIFIED:20241013T214332Z
UID:10001811-1728914400-1728918000@illuminatingdiscovery.wisc.edu
SUMMARY:"X Marks the Spot: Places of Great Discoveries at UW-Madison": In-Person Badger Talk in Sun Prairie\, WI
DESCRIPTION:Presenter: Tom Zinnen. This is a free\, in-person event hosted by Talamore Senior Living of Sun Prairie on October 14\, 2024 at 2:00 PM as a part of the Wisconsin Science Festival. No registration is necessary to attend.\nExplore the people and the places of great discoveries at UW-Madison that have changed how we look at life and how we lead our lives\, including the discovery of vitamins\, DNA breakthroughs that won four Nobel Prizes in Medicine\, and the development of human embryonic stem cells.\nCONTACT: 263-7793\, badgertalks@uwmad.wisc.edu\nURL: https://www.facebook.com/share/fCQ2ytDskbjiQfyv/
URL:https://illuminatingdiscovery.wisc.edu/event/x-marks-the-spot-places-of-great-discoveries-at-uw-madison-in-person-badger-talk-in-sun-prairie-wi/
LOCATION:275 North City Station Drive\, Sun Prairie\, WI\, United States
CATEGORIES:Wisconsin Science Festival
ATTACH;FMTTYPE=image/png:https://illuminatingdiscovery.wisc.edu/wp-content/uploads/2024/09/Screenshot-2024-09-26-at-10.35.31 AM.png
GEO:43.195712;-89.209418
END:VEVENT
BEGIN:VEVENT
DTSTART;TZID=America/Chicago:20241014T183000
DTEND;TZID=America/Chicago:20241014T193000
DTSTAMP:20260421T160927
CREATED:20241003T205855Z
LAST-MODIFIED:20241014T214303Z
UID:10001819-1728930600-1728934200@illuminatingdiscovery.wisc.edu
SUMMARY:Badgers on Tap: Microbiology at Delta Beer Lab
DESCRIPTION:in collaboration with the Wisconsin Science Festival. Join for a pint and a night of learning\, activities\, and good cheer at Badger State Brewing on October 14 at 6:30 PM! Listen to engaging 15-minute flash talks\, & participate in trivia & bingo! This event is in-person\, and no registration is necessary.\nRob Striker: How the “game of T cells” influences your risk of infections and cancer\nHolly Nichols: Gut Gladiators: Bacteria Battling to the Death in the Mosquito Gut\nHeather Emery: Gut Feeling – How Microbes Shape your Health and Happiness\nCONTACT: 263-7793\, badgertalks@uwmad.wisc.edu\nURL: https://badgertalks.wisc.edu/badgers-on-tap/
URL:https://illuminatingdiscovery.wisc.edu/event/badgers-on-tap-microbiology-at-delta-beer-lab/
LOCATION:167 E Badger Rd\, Madison\, WI\, United States
GEO:43.037167;-89.397066
END:VEVENT
BEGIN:VEVENT
DTSTART;TZID=America/Chicago:20241014T190000
DTEND;TZID=America/Chicago:20241014T200000
DTSTAMP:20260421T160927
CREATED:20240903T201427Z
LAST-MODIFIED:20241014T212847Z
UID:10001798-1728932400-1728936000@illuminatingdiscovery.wisc.edu
SUMMARY:Crossroads of Ideas: Wisconsin's Role in Shaping the Future of Agriculture
DESCRIPTION:Glenda Gillaspy (UW-Madison College of Agriculture and Life Sciences) moderates a lively panel discussion.\n\n\nThis engaging panel discussion will take a deeper look into the innovation and tradition of Wisconsin agriculture and the opportunities and challenges we face at the leading edge of sustainable systems. Moderated by Dr. Glenda Gillaspy\, Dean of UW-Madison College of Agricultural and Life Sciences\, and featuring researchers who are helping establish Wisconsin as the leader in agricultural advancement and innovation. \nPanelists: \n\nDr. Julie Dawson – Professor in the UW-Madison Department of Plant and Agroecosystem Sciences and Extension Specialist for Regional Food Systems. Research and extension interests include plant breeding for organic systems and participatory research in regional food systems. She is an academic cooperator with the USDA on the Farmer Seed Liaison initiative\, focused on promoting fair competition and innovation in the seed industry.\nDr. Randy Jackson – Joined the Department of Agronomy (now the Department of Plant & Agroecosystem Sciences) at UW-Madison in 2003. Jackson teaches Grassland Ecology and co-instructs Agroecology-An Introduction to the Ecology of Food and Agriculture. His grassland ecology group studies how carbon and nutrients flow into\, within\, and out of grassland ecosystems\, including prairie\, pasture\, and row-crop communities.\nDr. Rebecca Smith – Assistant professor of plant and agroecosystem sciences at the University of Wisconsin–Madison and a researcher with the Wisconsin Energy Institute and the Great Lakes Bioenergy Research Center (GLBRC). Smith’s research focuses on how to make alter the plant cell wall to improve plant digestibility\, animal nutrition\, and dairy sustainability.\nDr. Shawn Conley – Professor and the State Soybean and Small Grain Specialist at the University of Wisconsin\, Madison. Conley leads the UW Soybean Research Program “a.k.a. The UW BeanTeam” and actively collaborates across all disciplines to generate science-based solutions to address real world problems in soybean and small grain production systems.\n\nLink to full presenter bios. \nThis is a free event – registration is requested to ensure adequate seating. \n \n\n\nWe value inclusion and access for all participants. If you would like to request reasonable accommodations to enhance your participation experience\, please email idhub@wid.wisc.edu no later than 2 weeks prior to the event. This event is wheelchair accessible.
URL:https://illuminatingdiscovery.wisc.edu/event/crossroads-of-ideas-wisconsins-role-in-shaping-the-future-of-ag/
LOCATION:Discovery Building\, 330 North Orchard Street\, Madison\, WI\, 53715\, United States
CATEGORIES:Crossroads,Event
ATTACH;FMTTYPE=image/png:https://illuminatingdiscovery.wisc.edu/wp-content/uploads/2024/09/3afa8267bae1ec4788831d03e8a639f0-qoZSBs.tmp_.png
END:VEVENT
BEGIN:VEVENT
DTSTART;TZID=America/Chicago:20241015T190000
DTEND;TZID=America/Chicago:20241015T200000
DTSTAMP:20260421T160927
CREATED:20240821T194352Z
LAST-MODIFIED:20241015T214335Z
UID:10001795-1729018800-1729022400@illuminatingdiscovery.wisc.edu
SUMMARY:Badgers on Tap: Wisconsin Agriculture at Amorphic Beer
DESCRIPTION:in collaboration with the Wisconsin Science Festival. Join for a pint and a night of learning\, activities\, and good cheer at Amorphic Beer on October 15 at 7:00 PM! Listen to engaging 15-minute flash talks\, and participate in trivia\, bingo\, and more! This event is in-person\, and no registration is necessary.\nMichaela Hoffelmeyer: LGBTQ+ Farmers\nShelby Ellison: Collecting Cannabis through Citizen Scientist Collaboration\nCaitilyn Allen: Fruits of the Fore-mothers of Wisconsin Farming\nCONTACT: 263-7793\, badgertalks@uwmad.wisc.edu\nURL: https://badgertalks.wisc.edu/badgers-on-tap
URL:https://illuminatingdiscovery.wisc.edu/event/badgers-on-tap-wisconsin-agriculture-at-amorphic-beer/
LOCATION:Amorphic Beer\, 3700 N Fratney St\, Milwaukee\, WI\, United States
CATEGORIES:Wisconsin Science Festival
ATTACH;FMTTYPE=image/png:https://illuminatingdiscovery.wisc.edu/wp-content/uploads/2024/08/Screenshot-2024-09-26-at-10.33.39 AM.png
GEO:43.083936;-87.901202
X-APPLE-STRUCTURED-LOCATION;VALUE=URI;X-ADDRESS=Amorphic Beer 3700 N Fratney St Milwaukee WI United States;X-APPLE-RADIUS=500;X-TITLE=3700 N Fratney St:geo:-87.901202,43.083936
END:VEVENT
BEGIN:VEVENT
DTSTART;TZID=America/Chicago:20241015T190000
DTEND;TZID=America/Chicago:20241015T210000
DTSTAMP:20260421T160927
CREATED:20240926T151918Z
LAST-MODIFIED:20241015T212823Z
UID:10001807-1729018800-1729026000@illuminatingdiscovery.wisc.edu
SUMMARY:Big Ideas for Busy People: Fields of Wonder
DESCRIPTION:A celebration at the intersection of art and science. Nerdy talks\, performances\, Adult Swim crafts\, prizes\, and more!\n\n\nDoors and bar open at 6:30pm\, event takes place 7-9pm. Mark your calendars for a unique\, interactive event! \nJoin the Wisconsin Science Festival and friends for an unforgettable night at the intersection of art and science. Hear flash talks from incredible scientists on an array of topics\, enjoy dance performances supported by the UW-Madison Division of the Arts\, take in the musical wonder of the fiddle\, and get creative with crafts led by the Madison Children’s Museum Adult Swim team. \nThis event is free and in town for one-night-only. You won’t want to miss it! \nClick here to view the full presenter information! \n\n\nEmcee: Ben Rush\, PhD\, MPH \nScience Presenters: Leah Elson\, DJ LeClear\, Ania Bialic\, & Izzy Ross \nMusical Interludes: Daithi Wolfe (fiddle) \nDance Performances: Guy Thorne and the MUKULA Indian Dance group
URL:https://illuminatingdiscovery.wisc.edu/event/big-ideas-for-busy-people-fields-of-wonder-2/
LOCATION:Majestic Theatre\, 115 King Street\, Madison\, WI\, 53703\, United States
CATEGORIES:Event,Wisconsin Science Festival
ATTACH;FMTTYPE=image/jpeg:https://illuminatingdiscovery.wisc.edu/wp-content/uploads/2024/09/8d1fe41ac106bae5f0b35228f27fea06-5sgjKo.tmp_.jpg
END:VEVENT
BEGIN:VEVENT
DTSTART;TZID=America/Chicago:20241016T160000
DTEND;TZID=America/Chicago:20241016T170000
DTSTAMP:20260421T160927
CREATED:20240724T174341Z
LAST-MODIFIED:20241015T214335Z
UID:10001792-1729094400-1729098000@illuminatingdiscovery.wisc.edu
SUMMARY:"Wisconsin's Busy Bees": Virtual Wisconsin Science Festival Badger Talk
DESCRIPTION:Presenter: PJ Liesch. This free\, virtual event will take place on October 16\, 2024 at 4:00 PM and is a part of the Wisconsin Science Festival. The Bloomer Public Library will be hosting an optional viewing of the Zoom in the community room. To register for the Zoom\, visit here: https://bit.ly/4d5tEMJ\nCONTACT: 263-7793\, badgertalks@uwmad.wisc.edu\nURL: https://badgertalks.wisc.edu\nONLINE: https://www.facebook.com/share/Ruawycx8TdNMjGUb/
URL:https://illuminatingdiscovery.wisc.edu/event/wisconsins-busy-bees-virtual-wisconsin-science-festival-badger-talk/
LOCATION:(Online)
CATEGORIES:Wisconsin Science Festival
ATTACH;FMTTYPE=image/png:https://illuminatingdiscovery.wisc.edu/wp-content/uploads/2024/07/Screenshot-2024-09-26-at-10.37.22 AM.png
END:VEVENT
BEGIN:VEVENT
DTSTART;TZID=America/Chicago:20241016T180000
DTEND;TZID=America/Chicago:20241016T193000
DTSTAMP:20260421T160927
CREATED:20240816T192826Z
LAST-MODIFIED:20241016T214409Z
UID:10001794-1729101600-1729107000@illuminatingdiscovery.wisc.edu
SUMMARY:MadPrompts
DESCRIPTION:Creativity Unleashed. Join us for an exhilarating evening of wit\, artistry and prompt engineering at MadPrompts\, presented by WARF and the Data Science Institute! MadPrompts is not just an event; it's a mesmerizing game show-style competition where talented contestants race against the clock to craft captivating images inspired by a mysterious meta prompt. The fusion of art and technology promises to be nothing short of extraordinary.\nCONTACT: anaas@warf.org\nURL: https://www.eventbrite.com/e/madprompts-creativity-unleashed-tickets-993842538787
URL:https://illuminatingdiscovery.wisc.edu/event/madprompts/
LOCATION:H.F. DeLuca Forum\, Discovery Building
CATEGORIES:Wisconsin Science Festival
ATTACH;FMTTYPE=image/png:https://illuminatingdiscovery.wisc.edu/wp-content/uploads/2024/08/Screenshot-2024-09-26-at-10.39.47 AM.png
END:VEVENT
BEGIN:VEVENT
DTSTART;TZID=America/Chicago:20241017T170000
DTEND;TZID=America/Chicago:20241017T210000
DTSTAMP:20260421T160927
CREATED:20240903T204327Z
LAST-MODIFIED:20241017T215815Z
UID:10001803-1729184400-1729198800@illuminatingdiscovery.wisc.edu
SUMMARY:Science on the Square – Madison Night Market Fusion
DESCRIPTION:Join us for one fantastic night that blends science with downtown Madison businesses!. Back for its seventh year\, the ever-popular Science on the Square event is again fusing with the Madison Night Market to create a unique way to explore hands-on science activities while also supporting local businesses and vendors. In 2024\, our focus is on agriculture\, aiming to showcase its profound impact on our world.\nCONTACT: 316-4390\, info@wiscifest.org\nURL: https://www.wisconsinsciencefest.org/event/science-on-the-square-madison-night-market-fusion-4/
URL:https://illuminatingdiscovery.wisc.edu/event/science-on-the-square-madison-night-market-fusion/
LOCATION:State Street\, Downtown Madison
CATEGORIES:Wisconsin Science Festival
ATTACH;FMTTYPE=image/png:https://illuminatingdiscovery.wisc.edu/wp-content/uploads/2024/09/SciOnTheSq_50-x-50.png
END:VEVENT
BEGIN:VEVENT
DTSTART;TZID=America/Chicago:20241018T190000
DTEND;TZID=America/Chicago:20241018T200000
DTSTAMP:20260421T160927
CREATED:20240821T194353Z
LAST-MODIFIED:20241018T215923Z
UID:10001796-1729278000-1729281600@illuminatingdiscovery.wisc.edu
SUMMARY:Badgers on Tap: Wisconsin Agriculture at Delta Beer Lab
DESCRIPTION:in collaboration with the Wisconsin Science Festival. Join for a pint and a night of learning\, activities\, and good cheer at Delta Beer Lab on October 18 at 7:00 PM! Listen to engaging 15-minute flash talks\, and participate in trivia\, bingo\, and more! This event is in-person\, and no registration is necessary.\nAdam Borger: Food Microbiology: The Good Microbes\, The Bad Microbes and the Ugly Microbes\nJerry Clark: Malting Barley Research for the Craft Brewing Industry\nKevin Myers: A Wild Strain of Brewer's Yeast Engineered to Make Biofuel\nCONTACT: 263-7793\, badgertalks@uwmad.wisc.edu\nURL: https://badgertalks.wisc.edu/badgers-on-tap/
URL:https://illuminatingdiscovery.wisc.edu/event/badgers-on-tap-wisconsin-agriculture-at-delta-beer-lab/
LOCATION:167 E Badger Rd\, Madison\, WI\, United States
CATEGORIES:Wisconsin Science Festival
ATTACH;FMTTYPE=image/png:https://illuminatingdiscovery.wisc.edu/wp-content/uploads/2024/08/Screenshot-2024-09-26-at-10.33.39 AM.png
GEO:43.037167;-89.397066
END:VEVENT
BEGIN:VEVENT
DTSTART;TZID=America/Chicago:20241018T193000
DTEND;TZID=America/Chicago:20241018T210000
DTSTAMP:20260421T160927
CREATED:20240902T215819Z
LAST-MODIFIED:20241018T215843Z
UID:10001799-1729279800-1729285200@illuminatingdiscovery.wisc.edu
SUMMARY:SoundWaves: Developing Ideas\, Part 1
DESCRIPTION:Explore how trends\, plans\, viewpoints\, projects\, materials\, and sounds develop.  Where we are and where we might be headed in the future.\n\n\nAll year\, SoundWaves will explore the concept of Development. In our first event\, we ask: How did the development of monotheism affect human society? How do plants evolve\, and how do we help them evolve? What is all this about AI? How does research and creativity give birth to a novel? And what does development mean in the context of music? Find out on October 18\, at 7:30pm in the DeLuca Forum in the Discovery Building. This SoundWaves event is part of the Wisconsin Science Festival. \nWilliam Tracy\, Plant and Agroecosystem Sciences \nMichael Bell\, Community and Environmental Sociology \nJerry Zhu\, Computer Science \nMichelle Wildgen\, WID Writer-in-Residence \nThis event will take place in the DeLuca Forum in the Discovery Building. This is a free event\, however registration is requested to ensure adequate seating. \n\n\nWe value inclusion and access for all participants. If you would like to request reasonable accommodations to enhance your participation experience\, please email idhub@wid.wisc.edu no later than 2 weeks prior to the event. This event is wheelchair accessible. \n\n\nSoundWaves combines scientific lectures about the world with live classical music performances. Each event revolves around a theme\, exploring it first from many scientific angles and then through the lens of music. The program concludes with a live performance of music related to the evening’s theme.
URL:https://illuminatingdiscovery.wisc.edu/event/soundwaves-developing-ideas-2/
LOCATION:Discovery Building\, 330 North Orchard Street\, Madison\, WI\, 53715\, United States
CATEGORIES:Event,SoundWaves
ATTACH;FMTTYPE=image/jpeg:https://illuminatingdiscovery.wisc.edu/wp-content/uploads/2024/08/675fa6eaa95142aedc1c91a96d3bc53e-IZ9xq9.tmp_.jpg
END:VEVENT
BEGIN:VEVENT
DTSTART;TZID=America/Chicago:20241019T100000
DTEND;TZID=America/Chicago:20241019T130000
DTSTAMP:20260421T160927
CREATED:20240903T204328Z
LAST-MODIFIED:20241018T215924Z
UID:10001805-1729332000-1729342800@illuminatingdiscovery.wisc.edu
SUMMARY:Discovery Expo – Community Day
DESCRIPTION:Presented by Morgridge Institute for Research. The Discovery Exp Community Day invites learners of all ages to the Discovery Building on UW-Madison’s campus to experience dozens of interactive\, hands-on exploration stations that feature STEM activities ranging from virtual reality to health and medicine\, chemistry\, physics demonstrations and more!  Explore the hands-on activities at your own pace and interact with scientists\, STEM professionals and students from UW-Madison and beyond!\nCONTACT: 316-4390\, info@wiscifest.org\nURL: https://www.wisconsinsciencefest.org/event/discovery-expo-community-day-presented-by-morgridge-institute-for-research/
URL:https://illuminatingdiscovery.wisc.edu/event/discovery-expo-community-day/
LOCATION:1st Floor\, Discovery Building
CATEGORIES:Wisconsin Science Festival
ATTACH;FMTTYPE=image/png:https://illuminatingdiscovery.wisc.edu/wp-content/uploads/2024/09/Community-Expo-Materials-6.png
END:VEVENT
END:VCALENDAR